BEGIN:VCALENDAR
VERSION:2.0
PRODID:-//Family Affairs Club - ECPv6.15.16//NONSGML v1.0//EN
CALSCALE:GREGORIAN
METHOD:PUBLISH
X-WR-CALNAME:Family Affairs Club
X-ORIGINAL-URL:https://www.familyaffairsclub.com
X-WR-CALDESC:Eventos para Family Affairs Club
REFRESH-INTERVAL;VALUE=DURATION:PT1H
X-Robots-Tag:noindex
X-PUBLISHED-TTL:PT1H
BEGIN:VTIMEZONE
TZID:Europe/Madrid
BEGIN:DAYLIGHT
TZOFFSETFROM:+0100
TZOFFSETTO:+0200
TZNAME:CEST
DTSTART:20240331T010000
END:DAYLIGHT
BEGIN:STANDARD
TZOFFSETFROM:+0200
TZOFFSETTO:+0100
TZNAME:CET
DTSTART:20241027T010000
END:STANDARD
BEGIN:DAYLIGHT
TZOFFSETFROM:+0100
TZOFFSETTO:+0200
TZNAME:CEST
DTSTART:20250330T010000
END:DAYLIGHT
BEGIN:STANDARD
TZOFFSETFROM:+0200
TZOFFSETTO:+0100
TZNAME:CET
DTSTART:20251026T010000
END:STANDARD
BEGIN:DAYLIGHT
TZOFFSETFROM:+0100
TZOFFSETTO:+0200
TZNAME:CEST
DTSTART:20260329T010000
END:DAYLIGHT
BEGIN:STANDARD
TZOFFSETFROM:+0200
TZOFFSETTO:+0100
TZNAME:CET
DTSTART:20261025T010000
END:STANDARD
END:VTIMEZONE
BEGIN:VEVENT
DTSTART;TZID=Europe/Madrid:20250313T100000
DTEND;TZID=Europe/Madrid:20250313T120000
DTSTAMP:20260422T105031
CREATED:20250128T063308Z
LAST-MODIFIED:20250303T083008Z
UID:108262-1741860000-1741867200@www.familyaffairsclub.com
SUMMARY:RETOS LEGALES DE LA MAYORÍA DE EDAD DE LOS HIJOS
DESCRIPTION:Con Carmen Calderón\n\nDescripción del evento\nEn este desayuno abordaremos un tema clave en la vida familiar: los retos que se presentan cuando los hijos alcanzan la mayoría de edad. Exploraremos cómo este cambio afecta la dinámica familiar\, los derechos y las obligaciones tanto de los progenitores como de los hijos en esta nueva etapa. Analizaremos las controversias más comunes que pueden surgir en la convivencia diaria\, incluyendo aspectos como la falta de autonomía\, las expectativas mutuas y cómo manejar los conflictos de manera constructiva. Además\, profundizaremos en los aspectos económicos asociados a la crianza de hijos adultos\, incluyendo el coste de su independencia\, el impacto en las finanzas familiares y cómo abordar estos temas con transparencia y equilibrio. También revisaremos el papel de los Convenios Reguladores en situaciones de Divorcio o Separación\, explicando su importancia en la organización de la convivencia y el cumplimiento de obligaciones cuando los hijos ya no son menores. Discutiremos casos prácticos y ejemplos que ayuden a aclarar dudas sobre derechos\, deberes y cómo gestionar de manera efectiva estas situaciones \n\nDetalles del evento\n📅 Fecha y hora: Jueves\, 13 de marzo de 2025 De 10:00 h a 12:00 h📍 Lugar: Grand Hyatt Barcelona  Plaza de Pius XII 4\, 08028 Barcelona \n\nPrograma\n10:00 h – Acreditaciones10:30 h – Desayuno12:00 h – Cierre \n\nDirigido a\n\nPadres\, madres y tutores.\nCualquier persona interesada en comprender y abordar los retos que supone la mayoría de edad de los hijos.\n\n\nInscripciones\nEvento no gratuito. Se abonarán 20€ al inicio de la sesión.Las plazas son limitadas.Reserva tu entrada antes del 7 de marzo de 2025.
URL:https://www.familyaffairsclub.com/evento/retos-legales-de-la-mayoria-de-edad-de-los-hijos/
LOCATION:Grand Hyatt Barcelona\, Plaza de Pius XII 4\, Barcelona\, 08028
ATTACH;FMTTYPE=image/jpeg:https://www.familyaffairsclub.com/wp-content/uploads/2025/01/desayunos-de-trabajo.jpg
ORGANIZER;CN="Family Affairs Club":MAILTO:info@familyaffairsclub.com
END:VEVENT
END:VCALENDAR